BEGIN:VCALENDAR
VERSION:2.0
PRODID:-//Chef Kara - ECPv6.6.1//NONSGML v1.0//EN
CALSCALE:GREGORIAN
METHOD:PUBLISH
X-ORIGINAL-URL:http://www.chefkaraskitchen.com
X-WR-CALDESC:Events for Chef Kara
REFRESH-INTERVAL;VALUE=DURATION:PT1H
X-Robots-Tag:noindex
X-PUBLISHED-TTL:PT1H
BEGIN:VTIMEZONE
TZID:America/New_York
BEGIN:DAYLIGHT
TZOFFSETFROM:-0500
TZOFFSETTO:-0400
TZNAME:EDT
DTSTART:20190310T070000
END:DAYLIGHT
BEGIN:STANDARD
TZOFFSETFROM:-0400
TZOFFSETTO:-0500
TZNAME:EST
DTSTART:20191103T060000
END:STANDARD
END:VTIMEZONE
BEGIN:VEVENT
DTSTART;TZID=America/New_York:20191116T180000
DTEND;TZID=America/New_York:20191116T210000
DTSTAMP:20260420T091054
CREATED:20191011T150843Z
LAST-MODIFIED:20191011T150843Z
UID:2191-1573927200-1573938000@www.chefkaraskitchen.com
SUMMARY:Kara's Kitchen Harvest Dinner
DESCRIPTION:Details TBD
URL:http://www.chefkaraskitchen.com/event/karas-kitchen-harvest-dinner/
LOCATION:Pocono ProFoods\, 2504 Chipperfield Dr\, East Stroudsburg\, PA\, 18301\, United States
CATEGORIES:Culinary,Dinner
END:VEVENT
END:VCALENDAR